BEGIN:VCALENDAR
VERSION:2.0
PRODID:-//The Association of Massachusetts Educators of Students with Visual Impairments        - ECPv6.15.20//NONSGML v1.0//EN
CALSCALE:GREGORIAN
METHOD:PUBLISH
X-WR-CALNAME:The Association of Massachusetts Educators of Students with Visual Impairments       
X-ORIGINAL-URL:https://amesvi.org
X-WR-CALDESC:Events for The Association of Massachusetts Educators of Students with Visual Impairments       
REFRESH-INTERVAL;VALUE=DURATION:PT1H
X-Robots-Tag:noindex
X-PUBLISHED-TTL:PT1H
BEGIN:VTIMEZONE
TZID:America/New_York
BEGIN:DAYLIGHT
TZOFFSETFROM:-0500
TZOFFSETTO:-0400
TZNAME:EDT
DTSTART:20250309T070000
END:DAYLIGHT
BEGIN:STANDARD
TZOFFSETFROM:-0400
TZOFFSETTO:-0500
TZNAME:EST
DTSTART:20251102T060000
END:STANDARD
BEGIN:DAYLIGHT
TZOFFSETFROM:-0500
TZOFFSETTO:-0400
TZNAME:EDT
DTSTART:20260308T070000
END:DAYLIGHT
BEGIN:STANDARD
TZOFFSETFROM:-0400
TZOFFSETTO:-0500
TZNAME:EST
DTSTART:20261101T060000
END:STANDARD
BEGIN:DAYLIGHT
TZOFFSETFROM:-0500
TZOFFSETTO:-0400
TZNAME:EDT
DTSTART:20270314T070000
END:DAYLIGHT
BEGIN:STANDARD
TZOFFSETFROM:-0400
TZOFFSETTO:-0500
TZNAME:EST
DTSTART:20271107T060000
END:STANDARD
END:VTIMEZONE
BEGIN:VEVENT
DTSTART;TZID=America/New_York:20260226T190000
DTEND;TZID=America/New_York:20260226T203000
DTSTAMP:20260423T114813
CREATED:20260209T145121Z
LAST-MODIFIED:20260218T151128Z
UID:2628-1772132400-1772137800@amesvi.org
SUMMARY:UMASS O&M Seminar Presentation
DESCRIPTION:Repairing and Modifying the Long Cane and AMD Tip Review \n\n\n\n\n\n\n\n\n\nCan you resize a folding cane? What can you do if the elastic cord in a folding cane breaks? Can you use slip-on tips with a cane that uses hook-on tips? Learn about these and new AMD tips during this presentation! \n\n\n\nMeeting Link: https://umassboston.zoom.us/j/2371179974 \n\n\n\nPresenter: Lynn Gautreaux\, M.S.\, COMS – Lynn was an instructor at the Louisiana School for the Visually Impaired before becoming Director of O&M and Statewide Outreach Director for Louisiana. After his retirement in 2013\, he now works as a contingent at Leader Dogs for the Blind and is the author of “Comprehensive Cane\, Tip & AMD Modification\, Design & Refurbishing” \n\n\n\nNote: In order to prepare and get Maximum benefit\, please review the AMD videos found on Lynn’s website: https://geauxbility.com/ \n\n\n\n \n\n\n\nACVREP and DESE credits are available to all AMESVI  members. \n\n\n\nQuestions? Contact Darick Wright\,  president@amesvi.org
URL:https://amesvi.org/event/umass-om-seminar-presentation/
END:VEVENT
END:VCALENDAR