BEGIN:VCALENDAR
VERSION:2.0
PRODID:-//The Association of Massachusetts Educators of Students with Visual Impairments        - ECPv6.15.20//NONSGML v1.0//EN
CALSCALE:GREGORIAN
METHOD:PUBLISH
X-WR-CALNAME:The Association of Massachusetts Educators of Students with Visual Impairments       
X-ORIGINAL-URL:https://amesvi.org
X-WR-CALDESC:Events for The Association of Massachusetts Educators of Students with Visual Impairments       
REFRESH-INTERVAL;VALUE=DURATION:PT1H
X-Robots-Tag:noindex
X-PUBLISHED-TTL:PT1H
BEGIN:VTIMEZONE
TZID:America/New_York
BEGIN:DAYLIGHT
TZOFFSETFROM:-0500
TZOFFSETTO:-0400
TZNAME:EDT
DTSTART:20240310T070000
END:DAYLIGHT
BEGIN:STANDARD
TZOFFSETFROM:-0400
TZOFFSETTO:-0500
TZNAME:EST
DTSTART:20241103T060000
END:STANDARD
BEGIN:DAYLIGHT
TZOFFSETFROM:-0500
TZOFFSETTO:-0400
TZNAME:EDT
DTSTART:20250309T070000
END:DAYLIGHT
BEGIN:STANDARD
TZOFFSETFROM:-0400
TZOFFSETTO:-0500
TZNAME:EST
DTSTART:20251102T060000
END:STANDARD
BEGIN:DAYLIGHT
TZOFFSETFROM:-0500
TZOFFSETTO:-0400
TZNAME:EDT
DTSTART:20260308T070000
END:DAYLIGHT
BEGIN:STANDARD
TZOFFSETFROM:-0400
TZOFFSETTO:-0500
TZNAME:EST
DTSTART:20261101T060000
END:STANDARD
END:VTIMEZONE
BEGIN:VEVENT
DTSTART;TZID=America/New_York:20250828T160000
DTEND;TZID=America/New_York:20250828T190000
DTSTAMP:20260424T014735
CREATED:20250828T101150Z
LAST-MODIFIED:20250828T163808Z
UID:2570-1756396800-1756407600@amesvi.org
SUMMARY:CANCELLED Sips and Bits
DESCRIPTION:AMESVI Sips and Bits Get Togethermeet for Sips and Bits on August 26 at Tavern in the Square\, Shoppers World\, 1 Worcester Road Framingham. text Susan Manzon or Bonnie Wellins if traveling by MBTA\, and one of them will meet you there. Departing times back to the MBTA will depend upon on need. Sips and Bits promises to be a good time! Bring a friend! 
URL:https://amesvi.org/event/sips-and-bits/
END:VEVENT
BEGIN:VEVENT
DTSTART;TZID=America/New_York:20250523T000000
DTEND;TZID=America/New_York:20250530T000000
DTSTAMP:20260424T014735
CREATED:20250329T012343Z
LAST-MODIFIED:20250513T004728Z
UID:2110-1747958400-1748563200@amesvi.org
SUMMARY:Elections
DESCRIPTION:Elections for President-Elect\, Recording Secretary\, Treasurer\, Western/Central Representative\, and South East/Cape&Islands Representative.  Only Regular Members can vote. A link to the ballot will be sent to each regular member. If you don’t receive a ballot\, please contact Amy Mason at correspondingsecretary@amesvi.org.
URL:https://amesvi.org/event/elections/
LOCATION:Online
CATEGORIES:Elections
ATTACH;FMTTYPE=image/png:https://amesvi.org/wp-content/uploads/2025/03/Colorful-Modern-Illustration-Your-Vote-Counts-Election-Campaign-Instagram-Post.png
ORGANIZER;CN="AMESVI":MAILTO:professionaldevelopmentcoordinator
END:VEVENT
BEGIN:VEVENT
DTSTART;TZID=America/New_York:20250522T190000
DTEND;TZID=America/New_York:20250522T200000
DTSTAMP:20260424T014735
CREATED:20250330T163642Z
LAST-MODIFIED:20250513T005105Z
UID:2174-1747940400-1747944000@amesvi.org
SUMMARY:Annual Business Meeting
DESCRIPTION:Please join us for updates from our Board Members including the Treasurer’s report\, Regional reports\, and general info about projects and the future direction of AMESVI in supporting You!
URL:https://amesvi.org/event/annual-business-meeting/
LOCATION:Online
ATTACH;FMTTYPE=image/png:https://amesvi.org/wp-content/uploads/2025/03/Blue-And-White-Illustrative-Business-Meeting-Invitation.png
END:VEVENT
BEGIN:VEVENT
DTSTART;TZID=America/New_York:20250227T173000
DTEND;TZID=America/New_York:20250327T190000
DTSTAMP:20260424T014735
CREATED:20250310T204432Z
LAST-MODIFIED:20250330T165327Z
UID:1944-1740677400-1743102000@amesvi.org
SUMMARY:What Do TSVI's and O&Mers have to do with Vision Therapy? What is convergence insufficiency?
DESCRIPTION:In this virtual session\, professors from New England College of Optometry will talk about how vision therapy is diagnosed\, where and who provides treatment\, and what your role is in this process. In addition\, you will learn about convergence insufficiency and how it can affect functional use of vision.\n\nPresenters: Jem Martin\, O.D.\, F.A.A.O. Assistant Professor\n\nKatherine Green\, O.D.\, F.A.A.O. Associate Professor
URL:https://amesvi.org/event/what-do-tsvis-and-omers-have-to-do-with-vision-therapy-what-is-convergence-insufficiency/
LOCATION:Online
ORGANIZER;CN="AMESVI":MAILTO:professionaldevelopmentcoordinator
END:VEVENT
END:VCALENDAR