BEGIN:VCALENDAR
VERSION:2.0
PRODID:-//The Association of Massachusetts Educators of Students with Visual Impairments        - ECPv6.15.20//NONSGML v1.0//EN
CALSCALE:GREGORIAN
METHOD:PUBLISH
X-WR-CALNAME:The Association of Massachusetts Educators of Students with Visual Impairments       
X-ORIGINAL-URL:https://amesvi.org
X-WR-CALDESC:Events for The Association of Massachusetts Educators of Students with Visual Impairments       
REFRESH-INTERVAL;VALUE=DURATION:PT1H
X-Robots-Tag:noindex
X-PUBLISHED-TTL:PT1H
BEGIN:VTIMEZONE
TZID:America/New_York
BEGIN:DAYLIGHT
TZOFFSETFROM:-0500
TZOFFSETTO:-0400
TZNAME:EDT
DTSTART:20240310T070000
END:DAYLIGHT
BEGIN:STANDARD
TZOFFSETFROM:-0400
TZOFFSETTO:-0500
TZNAME:EST
DTSTART:20241103T060000
END:STANDARD
BEGIN:DAYLIGHT
TZOFFSETFROM:-0500
TZOFFSETTO:-0400
TZNAME:EDT
DTSTART:20250309T070000
END:DAYLIGHT
BEGIN:STANDARD
TZOFFSETFROM:-0400
TZOFFSETTO:-0500
TZNAME:EST
DTSTART:20251102T060000
END:STANDARD
BEGIN:DAYLIGHT
TZOFFSETFROM:-0500
TZOFFSETTO:-0400
TZNAME:EDT
DTSTART:20260308T070000
END:DAYLIGHT
BEGIN:STANDARD
TZOFFSETFROM:-0400
TZOFFSETTO:-0500
TZNAME:EST
DTSTART:20261101T060000
END:STANDARD
END:VTIMEZONE
BEGIN:VEVENT
DTSTART;TZID=America/New_York:20250828T160000
DTEND;TZID=America/New_York:20250828T190000
DTSTAMP:20260423T195659
CREATED:20250828T101150Z
LAST-MODIFIED:20250828T163808Z
UID:2570-1756396800-1756407600@amesvi.org
SUMMARY:CANCELLED Sips and Bits
DESCRIPTION:AMESVI Sips and Bits Get Togethermeet for Sips and Bits on August 26 at Tavern in the Square\, Shoppers World\, 1 Worcester Road Framingham. text Susan Manzon or Bonnie Wellins if traveling by MBTA\, and one of them will meet you there. Departing times back to the MBTA will depend upon on need. Sips and Bits promises to be a good time! Bring a friend! 
URL:https://amesvi.org/event/sips-and-bits/
END:VEVENT
END:VCALENDAR